BEGIN:VCALENDAR
VERSION:2.0
PRODID:icalendar-ruby
CALSCALE:GREGORIAN
X-WR-TIMEZONE:Europe/Helsinki
BEGIN:VTIMEZONE
TZID:Europe/Helsinki
BEGIN:DAYLIGHT
DTSTART:20260329T040000
TZOFFSETFROM:+0200
TZOFFSETTO:+0300
RRULE:FREQ=YEARLY;BYDAY=-1SU;BYMONTH=3
TZNAME:EEST
END:DAYLIGHT
BEGIN:STANDARD
DTSTART:20261025T030000
TZOFFSETFROM:+0300
TZOFFSETTO:+0200
RRULE:FREQ=YEARLY;BYDAY=-1SU;BYMONTH=10
TZNAME:EET
END:STANDARD
END:VTIMEZONE
BEGIN:VEVENT
DTSTAMP:20260423T182650
UID:tuusulanuimaseura.myclub.fi-926189
DTSTART;TZID=Europe/Helsinki:20180819T101500
DTEND;TZID=Europe/Helsinki:20180819T101500
DESCRIPTION:Vesipeuhula SU 19.8.2018 alkaen\n\n\nVesipeuhula on tarkoitettu
  noin 3-5 -vuotiaille lapsille. Vesipeuhularyhmissä tutustutaan ohjaajien
  kanssa turvallisesti uimakoulutoimintaan. Vesipeuhulassa harjoitellaan le
 ikkien ja tarinoiden avulla totuttautumista veteen sekä itsenäistä liik
 kumista vedessä. Vesipeuhula toimii hyvin aremmille lapsille ponnahduslau
 tana tulla mukaan alkeisuimakouluun. \n\n\nHinnat  \nKurssimaksu tulee suo
 rittaa eräpäivään mennessä. Muussa tapauksessa paikka vapautetaan.\n\
 n\n100 euroa kurssimaksu + jäsenmaksu 25 euroa \n\n\n2\,90 euroa uimahall
 in sisäänpääsymaksu kertamaksuna (tai 10 kerran sarjaranneke 26 e\, ra
 nnekemaksu 7\,5 e mikäli ranneketta ei ole entuudestaan). Uimahallin sis
 äänpääsy on maksettava alle 7-vuotiaasta Tuusulan kunnan maksupäätö
 ksistä johtuen.\n\n\nKurssipäivät ovat sunnuntaina klo 10.15 - 11.15 \n
 1.  19.8.2018  \n2.  26.8.2018 \n3.  2.9.2018 \n4.  9.9.2018 \n5.  16.9.20
 18 \n6.  23.9.2018 \n7.  30.9.2018 \n8.  7.10.2018 \n9.  14.10.2018 \n10. 
 28.10.2018\n\nhttps://tuusulanuimaseura.myclub.fi/flow/events/926189
LOCATION:Tuusulan uimahalli\, Rykmentintie 1\, 04300 Tuusula\, Finland
SEQUENCE:0
SUMMARY:Su uimakoulut: Vesipeuhula SU
URL;VALUE=URI:https://tuusulanuimaseura.myclub.fi/flow/events/926189
END:VEVENT
END:VCALENDAR
